BEGIN:VCALENDAR
VERSION:2.0
PRODID:-//KGS Arsbeck - ECPv4.6.8//NONSGML v1.0//EN
CALSCALE:GREGORIAN
METHOD:PUBLISH
X-WR-CALNAME:KGS Arsbeck
X-ORIGINAL-URL:https://www.kgsarsbeck.de
X-WR-CALDESC:Events for KGS Arsbeck
BEGIN:VEVENT
DTSTART;VALUE=DATE:20170807
DTEND;VALUE=DATE:20170826
DTSTAMP:20260424T121235
CREATED:20170606T194137Z
LAST-MODIFIED:20170606T194137Z
UID:6324-1502064000-1503705599@www.kgsarsbeck.de
SUMMARY:OGS Arsbeck geöffnet (Sommerferienbetreuung für angemeldete Kinder)
DESCRIPTION:
URL:https://www.kgsarsbeck.de/termin/ogs-arsbeck-geoeffnet-sommerferienbetreuung-fuer-angemeldete-kinder/
END:VEVENT
END:VCALENDAR