BEGIN:VCALENDAR
VERSION:2.0
PRODID:-//KGS Arsbeck - ECPv4.6.8//NONSGML v1.0//EN
CALSCALE:GREGORIAN
METHOD:PUBLISH
X-WR-CALNAME:KGS Arsbeck
X-ORIGINAL-URL:https://www.kgsarsbeck.de
X-WR-CALDESC:Events for KGS Arsbeck
BEGIN:VEVENT
DTSTART;VALUE=DATE:20160730
DTEND;VALUE=DATE:20160820
DTSTAMP:20260424T085348
CREATED:20160626T131145Z
LAST-MODIFIED:20160626T131345Z
UID:4618-1469836800-1471651199@www.kgsarsbeck.de
SUMMARY:OGS (W) geschlossen
DESCRIPTION:OGS (A) geöffnet \n
URL:https://www.kgsarsbeck.de/termin/ogs-w-geschlossen/
END:VEVENT
END:VCALENDAR