BEGIN:VCALENDAR
VERSION:2.0
PRODID:-//KGS Arsbeck - ECPv4.6.8//NONSGML v1.0//EN
CALSCALE:GREGORIAN
METHOD:PUBLISH
X-WR-CALNAME:KGS Arsbeck
X-ORIGINAL-URL:https://www.kgsarsbeck.de
X-WR-CALDESC:Events for KGS Arsbeck
BEGIN:VEVENT
DTSTART;VALUE=DATE:20170717
DTEND;VALUE=DATE:20170805
DTSTAMP:20260424T120928
CREATED:20170606T193619Z
LAST-MODIFIED:20170606T194040Z
UID:6321-1500249600-1501891199@www.kgsarsbeck.de
SUMMARY:OGS Wildenrath geöffnet (Sommerferienbetreuung für angemeldete Kinder)
DESCRIPTION:
URL:https://www.kgsarsbeck.de/termin/ogs-wildenrath-geoeffnet-sommerferienbetreuung-fuer-angemeldete-kinder/
END:VEVENT
END:VCALENDAR