BEGIN:VCALENDAR
VERSION:2.0
PRODID:-//KGS Arsbeck - ECPv4.6.8//NONSGML v1.0//EN
CALSCALE:GREGORIAN
METHOD:PUBLISH
X-WR-CALNAME:KGS Arsbeck
X-ORIGINAL-URL:https://www.kgsarsbeck.de
X-WR-CALDESC:Events for KGS Arsbeck
BEGIN:VEVENT
DTSTART;VALUE=DATE:20170616
DTEND;VALUE=DATE:20170617
DTSTAMP:20260424T070354
CREATED:20170607T215050Z
LAST-MODIFIED:20170607T215050Z
UID:6334-1497571200-1497657599@www.kgsarsbeck.de
SUMMARY:OGS Wildenrath geöffnet
DESCRIPTION:
URL:https://www.kgsarsbeck.de/termin/ogs-wildenrath-geoeffnet/
END:VEVENT
END:VCALENDAR