BEGIN:VCALENDAR
VERSION:2.0
PRODID:-//KGS Arsbeck - ECPv4.6.8//NONSGML v1.0//EN
CALSCALE:GREGORIAN
METHOD:PUBLISH
X-WR-CALNAME:KGS Arsbeck
X-ORIGINAL-URL:https://www.kgsarsbeck.de
X-WR-CALDESC:Events for KGS Arsbeck
BEGIN:VEVENT
DTSTART;VALUE=DATE:20240520
DTEND;VALUE=DATE:20240521
DTSTAMP:20260424T154023
CREATED:20180503T204248Z
LAST-MODIFIED:20230727T004331Z
UID:7950-1716163200-1716249599@www.kgsarsbeck.de
SUMMARY:Pfingstmontag
DESCRIPTION:
URL:https://www.kgsarsbeck.de/termin/pfingstmontag/
CATEGORIES:Feiertag
END:VEVENT
END:VCALENDAR