BEGIN:VCALENDAR
VERSION:2.0
PRODID:-//KGS Arsbeck - ECPv4.6.8//NONSGML v1.0//EN
CALSCALE:GREGORIAN
METHOD:PUBLISH
X-WR-CALNAME:KGS Arsbeck
X-ORIGINAL-URL:https://www.kgsarsbeck.de
X-WR-CALDESC:Events for KGS Arsbeck
BEGIN:VEVENT
DTSTART;TZID=Europe/Berlin:20170911T090000
DTEND;TZID=Europe/Berlin:20170911T091500
DTSTAMP:20260424T133221
CREATED:20170904T174534Z
LAST-MODIFIED:20170904T174534Z
UID:6734-1505120400-1505121300@www.kgsarsbeck.de
SUMMARY:Probealarm in Wildenrath
DESCRIPTION:
URL:https://www.kgsarsbeck.de/termin/probealarm-in-wildenrath/
END:VEVENT
END:VCALENDAR