BEGIN:VCALENDAR
VERSION:2.0
PRODID:-//KGS Arsbeck - ECPv4.6.8//NONSGML v1.0//EN
CALSCALE:GREGORIAN
METHOD:PUBLISH
X-WR-CALNAME:KGS Arsbeck
X-ORIGINAL-URL:https://www.kgsarsbeck.de
X-WR-CALDESC:Events for KGS Arsbeck
BEGIN:VEVENT
DTSTART;TZID=Europe/Berlin:20190325T080000
DTEND;TZID=Europe/Berlin:20190329T120000
DTSTAMP:20260424T065303
CREATED:20181030T204357Z
LAST-MODIFIED:20190324T202901Z
UID:8796-1553500800-1553860800@www.kgsarsbeck.de
SUMMARY:Projektwoche "Lesewelten"
DESCRIPTION:Die Schüler beschäftigen sich in dieser Woche in 16 verschiedenen Projektgruppen mit unterschiedlichen Kinderbüchern. \n  \n
URL:https://www.kgsarsbeck.de/termin/projektwoche/
END:VEVENT
END:VCALENDAR