BEGIN:VCALENDAR
VERSION:2.0
PRODID:-//KGS Arsbeck - ECPv4.6.8//NONSGML v1.0//EN
CALSCALE:GREGORIAN
METHOD:PUBLISH
X-WR-CALNAME:KGS Arsbeck
X-ORIGINAL-URL:https://www.kgsarsbeck.de
X-WR-CALDESC:Events for KGS Arsbeck
BEGIN:VEVENT
DTSTART;TZID=Europe/Berlin:20170704T101500
DTEND;TZID=Europe/Berlin:20170704T114500
DTSTAMP:20260424T101404
CREATED:20170529T164925Z
LAST-MODIFIED:20170608T185310Z
UID:6232-1499163300-1499168700@www.kgsarsbeck.de
SUMMARY:Schnuppern der Schulneulinge
DESCRIPTION:Die Schulneulinge des Schuljahres 2017/18 sind zu Besuch in den 1. Klassen in Arsbeck und in den JüL Klassen in Wildenrath. \n
URL:https://www.kgsarsbeck.de/termin/schnuppern-der-schulneulinge-2/
END:VEVENT
END:VCALENDAR