BEGIN:VCALENDAR
VERSION:2.0
PRODID:-//KGS Arsbeck - ECPv4.6.8//NONSGML v1.0//EN
CALSCALE:GREGORIAN
METHOD:PUBLISH
X-WR-CALNAME:KGS Arsbeck
X-ORIGINAL-URL:https://www.kgsarsbeck.de
X-WR-CALDESC:Events for KGS Arsbeck
BEGIN:VEVENT
DTSTART;TZID=Europe/Berlin:20190331T120000
DTEND;TZID=Europe/Berlin:20190331T163000
DTSTAMP:20260424T090015
CREATED:20181030T204509Z
LAST-MODIFIED:20190310T185735Z
UID:8798-1554033600-1554049800@www.kgsarsbeck.de
SUMMARY:Schulfest
DESCRIPTION:
URL:https://www.kgsarsbeck.de/termin/schulfest/
END:VEVENT
END:VCALENDAR