BEGIN:VCALENDAR
VERSION:2.0
PRODID:-//KGS Arsbeck - ECPv4.6.8//NONSGML v1.0//EN
CALSCALE:GREGORIAN
METHOD:PUBLISH
X-WR-CALNAME:KGS Arsbeck
X-ORIGINAL-URL:https://www.kgsarsbeck.de
X-WR-CALDESC:Events for KGS Arsbeck
BEGIN:VEVENT
DTSTART;TZID=Europe/Berlin:20180515T080000
DTEND;TZID=Europe/Berlin:20180515T080000
DTSTAMP:20260424T145512
CREATED:20180514T194206Z
LAST-MODIFIED:20180514T194206Z
UID:8010-1526371200-1526371200@www.kgsarsbeck.de
SUMMARY:Schulgottesdienst Kl. 3/ 4
DESCRIPTION:
URL:https://www.kgsarsbeck.de/termin/schulgottesdienst-kl-3-4/
END:VEVENT
END:VCALENDAR