BEGIN:VCALENDAR
VERSION:2.0
PRODID:-//KGS Arsbeck - ECPv4.6.8//NONSGML v1.0//EN
CALSCALE:GREGORIAN
METHOD:PUBLISH
X-WR-CALNAME:KGS Arsbeck
X-ORIGINAL-URL:https://www.kgsarsbeck.de
X-WR-CALDESC:Events for KGS Arsbeck
BEGIN:VEVENT
DTSTART;TZID=Europe/Berlin:20220505T200000
DTEND;TZID=Europe/Berlin:20220505T210000
DTSTAMP:20260424T034553
CREATED:20210822T120616Z
LAST-MODIFIED:20210822T120616Z
UID:12698-1651780800-1651784400@www.kgsarsbeck.de
SUMMARY:Schulkonferenz
DESCRIPTION:
URL:https://www.kgsarsbeck.de/termin/schulkonferenz-3/
END:VEVENT
END:VCALENDAR