BEGIN:VCALENDAR
VERSION:2.0
PRODID:-//KGS Arsbeck - ECPv4.6.8//NONSGML v1.0//EN
CALSCALE:GREGORIAN
METHOD:PUBLISH
X-WR-CALNAME:KGS Arsbeck
X-ORIGINAL-URL:https://www.kgsarsbeck.de
X-WR-CALDESC:Events for KGS Arsbeck
BEGIN:VEVENT
DTSTART;TZID=Europe/Berlin:20211005T080000
DTEND;TZID=Europe/Berlin:20211005T170000
DTSTAMP:20260424T083017
CREATED:20210819T192439Z
LAST-MODIFIED:20210819T192439Z
UID:12643-1633420800-1633453200@www.kgsarsbeck.de
SUMMARY:Sponsorenlauf Jg. 2
DESCRIPTION:
URL:https://www.kgsarsbeck.de/termin/sponsorenlauf-jg-2/
END:VEVENT
END:VCALENDAR