BEGIN:VCALENDAR
VERSION:2.0
PRODID:-//KGS Arsbeck - ECPv4.6.8//NONSGML v1.0//EN
CALSCALE:GREGORIAN
METHOD:PUBLISH
X-WR-CALNAME:KGS Arsbeck
X-ORIGINAL-URL:https://www.kgsarsbeck.de
X-WR-CALDESC:Events for KGS Arsbeck
BEGIN:VEVENT
DTSTART;TZID=Europe/Berlin:20251010T080000
DTEND;TZID=Europe/Berlin:20251010T113000
DTSTAMP:20260424T100156
CREATED:20210819T192501Z
LAST-MODIFIED:20250830T191929Z
UID:12645-1760083200-1760095800@www.kgsarsbeck.de
SUMMARY:Sponsorenlauf (Ersatztermin)
DESCRIPTION:
URL:https://www.kgsarsbeck.de/termin/sponsorenlauf-jg-3/
END:VEVENT
END:VCALENDAR