BEGIN:VCALENDAR
VERSION:2.0
PRODID:-//KGS Arsbeck - ECPv4.6.8//NONSGML v1.0//EN
CALSCALE:GREGORIAN
METHOD:PUBLISH
X-WR-CALNAME:KGS Arsbeck
X-ORIGINAL-URL:https://www.kgsarsbeck.de
X-WR-CALDESC:Events for KGS Arsbeck
BEGIN:VEVENT
DTSTART;TZID=Europe/Berlin:20200220T111100
DTEND;TZID=Europe/Berlin:20200220T111100
DTSTAMP:20260424T083054
CREATED:20170223T181853Z
LAST-MODIFIED:20190902T173735Z
UID:5663-1582197060-1582197060@www.kgsarsbeck.de
SUMMARY:"Stürmung" der KGS Arsbeck
DESCRIPTION:Ab 11.11 Uhr feiern die Schüler die Schlüsselübergabe \n
URL:https://www.kgsarsbeck.de/termin/stuermung-der-kgs-arsbeck/
END:VEVENT
END:VCALENDAR