BEGIN:VCALENDAR
VERSION:2.0
PRODID:-//KGS Arsbeck - ECPv4.6.8//NONSGML v1.0//EN
CALSCALE:GREGORIAN
METHOD:PUBLISH
X-WR-CALNAME:KGS Arsbeck
X-ORIGINAL-URL:https://www.kgsarsbeck.de
X-WR-CALDESC:Events for KGS Arsbeck
BEGIN:VEVENT
DTSTART;TZID=Europe/Berlin:20170705T080000
DTEND;TZID=Europe/Berlin:20170705T123000
DTSTAMP:20260424T114522
CREATED:20170612T182250Z
LAST-MODIFIED:20170612T182250Z
UID:6559-1499241600-1499257800@www.kgsarsbeck.de
SUMMARY:Thementag Wasser"
DESCRIPTION:Im Rahmen der MINT-FÖRDERUNG besuchen unsere Viertklässler das Maximilian Kolbe Gymnasium in Wegberg und lernen zum Thema „Wasser“ naturwissenschaftliches Arbeiten kennen. \n
URL:https://www.kgsarsbeck.de/termin/thementag-wasser/
END:VEVENT
END:VCALENDAR