BEGIN:VCALENDAR
VERSION:2.0
PRODID:-//KGS Arsbeck - ECPv4.6.8//NONSGML v1.0//EN
CALSCALE:GREGORIAN
METHOD:PUBLISH
X-WR-CALNAME:KGS Arsbeck
X-ORIGINAL-URL:https://www.kgsarsbeck.de
X-WR-CALDESC:Events for KGS Arsbeck
BEGIN:VEVENT
DTSTART;TZID=Europe/Berlin:20190221T110000
DTEND;TZID=Europe/Berlin:20190221T120000
DTSTAMP:20260424T052206
CREATED:20170126T203644Z
LAST-MODIFIED:20181030T202747Z
UID:5540-1550746800-1550750400@www.kgsarsbeck.de
SUMMARY:Unterrichtsspiel der Schulneulinge 2018/19
DESCRIPTION:
URL:https://www.kgsarsbeck.de/termin/unterrichtsspiel-der-schulneulinge-201718-2/
END:VEVENT
END:VCALENDAR