BEGIN:VCALENDAR
VERSION:2.0
PRODID:-//KGS Arsbeck - ECPv4.6.8//NONSGML v1.0//EN
CALSCALE:GREGORIAN
METHOD:PUBLISH
X-WR-CALNAME:KGS Arsbeck
X-ORIGINAL-URL:https://www.kgsarsbeck.de
X-WR-CALDESC:Events for KGS Arsbeck
BEGIN:VEVENT
DTSTART;VALUE=DATE:20200225
DTEND;VALUE=DATE:20200226
DTSTAMP:20260424T095857
CREATED:20180117T210454Z
LAST-MODIFIED:20190902T174027Z
UID:7071-1582588800-1582675199@www.kgsarsbeck.de
SUMMARY:Veilchendienstag
DESCRIPTION:2. Bewegl. Ferientag – OGS geschlossen \n
URL:https://www.kgsarsbeck.de/termin/veilchendienstag/
END:VEVENT
END:VCALENDAR