BEGIN:VCALENDAR
VERSION:2.0
PRODID:-//KGS Arsbeck - ECPv4.6.8//NONSGML v1.0//EN
CALSCALE:GREGORIAN
METHOD:PUBLISH
X-WR-CALNAME:KGS Arsbeck
X-ORIGINAL-URL:https://www.kgsarsbeck.de
X-WR-CALDESC:Events for KGS Arsbeck
BEGIN:VEVENT
DTSTART;VALUE=DATE:20180422
DTEND;VALUE=DATE:20180423
DTSTAMP:20260424T121230
CREATED:20180418T201106Z
LAST-MODIFIED:20180418T201246Z
UID:7850-1524355200-1524441599@www.kgsarsbeck.de
SUMMARY:Kinderkommunion
DESCRIPTION:9.30 Uhr Arsbeck \n11.30 Uhr Wildenrath \n
URL:https://www.kgsarsbeck.de/termin/vera-d-sprachgebrauch/
END:VEVENT
END:VCALENDAR