BEGIN:VCALENDAR
VERSION:2.0
PRODID:-//KGS Arsbeck - ECPv4.6.8//NONSGML v1.0//EN
CALSCALE:GREGORIAN
METHOD:PUBLISH
X-WR-CALNAME:KGS Arsbeck
X-ORIGINAL-URL:https://www.kgsarsbeck.de
X-WR-CALDESC:Events for KGS Arsbeck
BEGIN:VEVENT
DTSTART;TZID=Europe/Berlin:20240423T080000
DTEND;TZID=Europe/Berlin:20240514T120000
DTSTAMP:20260424T083137
CREATED:20210822T115305Z
LAST-MODIFIED:20230727T002815Z
UID:12661-1713859200-1715688000@www.kgsarsbeck.de
SUMMARY:VERA        23.04.-14.05.
DESCRIPTION:
URL:https://www.kgsarsbeck.de/termin/vera-klasse-4-1-17-9-2021/
END:VEVENT
END:VCALENDAR