BEGIN:VCALENDAR
VERSION:2.0
PRODID:-//KGS Arsbeck - ECPv4.6.8//NONSGML v1.0//EN
CALSCALE:GREGORIAN
METHOD:PUBLISH
X-WR-CALNAME:KGS Arsbeck
X-ORIGINAL-URL:https://www.kgsarsbeck.de
X-WR-CALDESC:Events for KGS Arsbeck
BEGIN:VEVENT
DTSTART;TZID=Europe/Berlin:20170512T123000
DTEND;TZID=Europe/Berlin:20170512T133000
DTSTAMP:20260424T064956
CREATED:20170529T181110Z
LAST-MODIFIED:20170529T181110Z
UID:6240-1494592200-1494595800@www.kgsarsbeck.de
SUMMARY:Verleihung des Zertifikates " Haus der kleinen Forscher"
DESCRIPTION:
URL:https://www.kgsarsbeck.de/termin/verleihung-des-zertifikates-haus-der-kleinen-forscher/
END:VEVENT
END:VCALENDAR