BEGIN:VCALENDAR
VERSION:2.0
PRODID:-//KGS Arsbeck - ECPv4.6.8//NONSGML v1.0//EN
CALSCALE:GREGORIAN
METHOD:PUBLISH
X-WR-CALNAME:KGS Arsbeck
X-ORIGINAL-URL:https://www.kgsarsbeck.de
X-WR-CALDESC:Events for KGS Arsbeck
BEGIN:VEVENT
DTSTART;TZID=Europe/Berlin:20191001T200000
DTEND;TZID=Europe/Berlin:20191001T213000
DTSTAMP:20260424T133232
CREATED:20190928T203139Z
LAST-MODIFIED:20190928T203139Z
UID:9949-1569960000-1569965400@www.kgsarsbeck.de
SUMMARY:Vorstandssitzung Förderverein Arsbeck
DESCRIPTION:
URL:https://www.kgsarsbeck.de/termin/vorstandssitzung-foerderverein-arsbeck/
END:VEVENT
END:VCALENDAR