BEGIN:VCALENDAR
VERSION:2.0
PRODID:-//KGS Arsbeck - ECPv4.6.8//NONSGML v1.0//EN
CALSCALE:GREGORIAN
METHOD:PUBLISH
X-WR-CALNAME:KGS Arsbeck
X-ORIGINAL-URL:https://www.kgsarsbeck.de
X-WR-CALDESC:Events for KGS Arsbeck
BEGIN:VEVENT
DTSTART;VALUE=DATE:20231221
DTEND;VALUE=DATE:20240108
DTSTAMP:20260424T051204
CREATED:20170912T193743Z
LAST-MODIFIED:20230727T002526Z
UID:6824-1703116800-1704671999@www.kgsarsbeck.de
SUMMARY:Weihnachtsferien
DESCRIPTION:21./22.12.           OGS Arsbeck geöffnet\, OGS Wildenrath geschlossen \n23.12. – 01.01.    OGS geschlossen. \n02.01.- 05.01.    OGS Arsbeck  geöffnet\, OGS Wildenrath geschlossen \n
URL:https://www.kgsarsbeck.de/termin/weihnachtsferien-2/
END:VEVENT
END:VCALENDAR