BEGIN:VCALENDAR
VERSION:2.0
PRODID:-//KGS Arsbeck - ECPv4.6.8//NONSGML v1.0//EN
CALSCALE:GREGORIAN
METHOD:PUBLISH
X-WR-CALNAME:KGS Arsbeck
X-ORIGINAL-URL:https://www.kgsarsbeck.de
X-WR-CALDESC:Events for KGS Arsbeck
BEGIN:VEVENT
DTSTART;TZID=Europe/Berlin:20221129T080000
DTEND;TZID=Europe/Berlin:20221129T120000
DTSTAMP:20260424T082748
CREATED:20210819T191916Z
LAST-MODIFIED:20220914T220801Z
UID:12629-1669708800-1669723200@www.kgsarsbeck.de
SUMMARY:Zahnprophylaxe Wildenrath
DESCRIPTION:
URL:https://www.kgsarsbeck.de/termin/zahnprophylaxe-wildenrath/
END:VEVENT
END:VCALENDAR