BEGIN:VCALENDAR
VERSION:2.0
PRODID:-//KGS Arsbeck - ECPv4.6.8//NONSGML v1.0//EN
CALSCALE:GREGORIAN
METHOD:PUBLISH
X-WR-CALNAME:KGS Arsbeck
X-ORIGINAL-URL:https://www.kgsarsbeck.de
X-WR-CALDESC:Events for KGS Arsbeck
BEGIN:VEVENT
DTSTART;TZID=Europe/Berlin:20240701T080000
DTEND;TZID=Europe/Berlin:20240701T100000
DTSTAMP:20260424T083110
CREATED:20210822T121303Z
LAST-MODIFIED:20230727T005917Z
UID:12712-1719820800-1719828000@www.kgsarsbeck.de
SUMMARY:Zeugnisausgabe Jg. 1 - 3
DESCRIPTION:
URL:https://www.kgsarsbeck.de/termin/zeugnisausgabe-jg-1-3/
END:VEVENT
END:VCALENDAR